BEGIN:VCALENDAR
VERSION:2.0
PRODID:-//Virginia Zoo - ECPv6.15.12.2//NONSGML v1.0//EN
CALSCALE:GREGORIAN
METHOD:PUBLISH
X-WR-CALNAME:Virginia Zoo
X-ORIGINAL-URL:https://virginiazoo.org
X-WR-CALDESC:Events for Virginia Zoo
REFRESH-INTERVAL;VALUE=DURATION:PT1H
X-Robots-Tag:noindex
X-PUBLISHED-TTL:PT1H
BEGIN:VTIMEZONE
TZID:America/New_York
BEGIN:DAYLIGHT
TZOFFSETFROM:-0500
TZOFFSETTO:-0400
TZNAME:EDT
DTSTART:20250309T070000
END:DAYLIGHT
BEGIN:STANDARD
TZOFFSETFROM:-0400
TZOFFSETTO:-0500
TZNAME:EST
DTSTART:20251102T060000
END:STANDARD
BEGIN:DAYLIGHT
TZOFFSETFROM:-0500
TZOFFSETTO:-0400
TZNAME:EDT
DTSTART:20260308T070000
END:DAYLIGHT
BEGIN:STANDARD
TZOFFSETFROM:-0400
TZOFFSETTO:-0500
TZNAME:EST
DTSTART:20261101T060000
END:STANDARD
BEGIN:DAYLIGHT
TZOFFSETFROM:-0500
TZOFFSETTO:-0400
TZNAME:EDT
DTSTART:20270314T070000
END:DAYLIGHT
BEGIN:STANDARD
TZOFFSETFROM:-0400
TZOFFSETTO:-0500
TZNAME:EST
DTSTART:20271107T060000
END:STANDARD
END:VTIMEZONE
BEGIN:VEVENT
DTSTART;TZID=America/New_York:20261108T093000
DTEND;TZID=America/New_York:20261108T123000
DTSTAMP:20260423T045803
CREATED:20241227T160522Z
LAST-MODIFIED:20251217T163220Z
UID:35824-1794130200-1794141000@virginiazoo.org
SUMMARY:Sensory Friendly Morning
DESCRIPTION:Join us as we partner with Autism Society Tidewater Virginia\, Complete the Puzzle\, and Destination Family Services to provide guests of all abilities and needs\, along with their families\, the opportunity to visit the Virginia Zoo in a less overwhelming environment. On this special date and time we will provide stress-free activities for your Zoo visit through adapted programs and a reduced number of visitors. With access to animal ambassadors\, activity carts\, Run Wild! Discovery Zone nature play\, and more the whole family can enjoy this sensory-friendly morning at the Zoo. \n\n\n\n\n\n\n\nActivities\n\n\n\nCOMING SOON \n\n\n\nAll activities are being conducted as they would during standard operations with some modifications to create a calmer environment with reduced lights\, sounds\, and crowds.  \n\n\n\n\n\n\n\nFood & Drinks ($)\n\n\n\n\nAfrican Village Restaurant\n\nChicken tenders\, burgers\, pizza\, fries\, snack items\n\n\n\nSoda\, juice\, water\, beer\, wine\, Waters Edge Serpentine Sangria\n\n\n\n\n\n\n\n\n\n\nTickets\n\n\n\nDue to limited capacity\, timed tickets will be required for entry to the Zoo for this time and date. Individuals with an ADA-Recognized Disability and One Companion can receive free admission upon request. ADA Admission is only redeemable at the ticket booth. All additional family and friends attending are required to purchase & reserve your tickets ahead of time.  \n\n\n\n🎧 Member Adult (18+): Free \n\n\n\n🎧 Member Child (2-17): Free \n\n\n\n🎧 Non-Member Adult (12+): $20 \n\n\n\n🎧 Non-Member Senior (62+): $18 \n\n\n\n🎧 Non-Member Child (2-11): $17 \n\n\n\n🎧 Children under 2 are free but require a reserved ticket \n\n\n\n\n\n\n\nEvent Reminders\n\n\n\n\nTickets are non-refundable. All sales are final. Should a ticket holder be unable to attend the event\, the purchase will be considered a donation.\n\n\n\nAs an outdoor venue\, events are rain or shine unless otherwise indicated. If any changes are made\, an announcement via an email to our members and/or ticket holders and on the Virginia Zoo social media channels will be issued prior the event.\n\n\n\nThe Zoo is a smoke-free facility; no smoking is allowed inside the Zoo. This also includes e-cigarettes and vaping. Inability to follow this rule will result in dismissal from Zoo grounds without a refund.\n\n\n\nBy purchasing an event ticket\, you agree to abide by the Virginia Zoo’s Rules & Policies.\n\n\n\n\n\n\n\n\nQuestions regarding this event? Please email info@virginiazoo.org or call (757) 441-2374.
URL:https://virginiazoo.org/event/sensory-friendly-morning-2/
CATEGORIES:Special Events
ATTACH;FMTTYPE=image/jpeg:https://virginiazoo.org/wp-content/uploads/2024/09/ZOO_0494.jpg
END:VEVENT
END:VCALENDAR