BEGIN:VCALENDAR
VERSION:2.0
PRODID:-//Virginia Zoo - ECPv6.15.12.2//NONSGML v1.0//EN
CALSCALE:GREGORIAN
METHOD:PUBLISH
X-WR-CALNAME:Virginia Zoo
X-ORIGINAL-URL:https://virginiazoo.org
X-WR-CALDESC:Events for Virginia Zoo
REFRESH-INTERVAL;VALUE=DURATION:PT1H
X-Robots-Tag:noindex
X-PUBLISHED-TTL:PT1H
BEGIN:VTIMEZONE
TZID:America/New_York
BEGIN:DAYLIGHT
TZOFFSETFROM:-0500
TZOFFSETTO:-0400
TZNAME:EDT
DTSTART:20230312T070000
END:DAYLIGHT
BEGIN:STANDARD
TZOFFSETFROM:-0400
TZOFFSETTO:-0500
TZNAME:EST
DTSTART:20231105T060000
END:STANDARD
BEGIN:DAYLIGHT
TZOFFSETFROM:-0500
TZOFFSETTO:-0400
TZNAME:EDT
DTSTART:20240310T070000
END:DAYLIGHT
BEGIN:STANDARD
TZOFFSETFROM:-0400
TZOFFSETTO:-0500
TZNAME:EST
DTSTART:20241103T060000
END:STANDARD
BEGIN:DAYLIGHT
TZOFFSETFROM:-0500
TZOFFSETTO:-0400
TZNAME:EDT
DTSTART:20250309T070000
END:DAYLIGHT
BEGIN:STANDARD
TZOFFSETFROM:-0400
TZOFFSETTO:-0500
TZNAME:EST
DTSTART:20251102T060000
END:STANDARD
END:VTIMEZONE
BEGIN:VEVENT
DTSTART;TZID=America/New_York:20240831T170000
DTEND;TZID=America/New_York:20240831T203000
DTSTAMP:20260425T145310
CREATED:20240103T165137Z
LAST-MODIFIED:20240831T224423Z
UID:32899-1725123600-1725136200@virginiazoo.org
SUMMARY:Roar & Pour
DESCRIPTION:Click here for tickets!\n\n\n\n\nIn partnership with Coastal Virginia Brewery Alliance\, join us for this family-friendly event featuring unlimited beer samplings from the finest that Coastal Virginia has to offer\, alongside extended exhibit hours\, food trucks\, live music\, games\, a kid’s play area\, and much more. This event is rain or shine. \n\n\n\nEvent Map\n\n\n\n\n\n\n\nBrewery Locations Map\n\n\n\n\n\n\n\nSchedule & Activities\n\n\n\n\n5 – 5:45pm: Ambassador Animals at the beginning of Asia: Trail of the Tiger\n\n\n\n5 – 6pm: Musical entertainment from The Happy Dutchmen Oktoberfest Band at the Zoo Entrance\n\n\n\n5 – 7pm: Silent Auction in the Event Pavilion\n\n\n\n6 – 8pm: Musical entertainment from the Bobby Blackhat Band in the Event Field\n\n\n\n7pm: Final Roar! Exhibit Trails & Goat Yard Closes\n\n\n\n5 – 8:30pm Activities:\n\nCornhole and Beer Pong (with water) provided by CLUBWAKA\n\n\n\nThe Clubhouse Family-Friendly Activity in the Run Wild! Nature Discovery Zone\n\n\n\nThe Pride’s Corner Family-Friendly Activity in the Run Wild! Nature Discovery Zone\n\n\n\nBounce Hopper Bounce Houses (Additional cost)\n\n\n\nTrain Rides (Additional cost)\n\n\n\nLocal Vendor Market in the Event Pavilion (Additional Cost – see list of Vendors below)\n\n\n\nFace painting by Artfully Yours (Additional Cost)\n\n\n\nFairy Hair from The Fairy Hair Company (Additional Cost)\n\n\n\n\n\n8:15pm: Final Pour! Beer Sampling Ends\n\n\n\n8:30pm: Event Ends\n\n\n\nBrewery Sticker Table at Exit Gate\n\n\n\n\nUnlimited Beer Tastings\n\n\n\nA free tasting cup is included with purchase of a Drinking Adult ticket. \n\n\n\nBeer provided by: \n\n\n\n\n\n\nElation Brewing\n\n\n\nGloucester Brewing Company\n\n\n\nBeale’s Beer\n\n\n\nCaiseal Beer & Spirits Co. (The Vanguard Brewpub & Distillery)\n\n\n\nCOVA Brewing Co.\n\n\n\nBenchtop Brewing Company\n\n\n\nVibrant Shore Brewing\n\n\n\nDragon Run Brewing\n\n\n\n\n\n\n\nStudly Brewing\n\n\n\nThe Garage Brewery\n\n\n\n1700 Brewing\n\n\n\nAfterglow Brewing\n\n\n\nMaker’s Craft Brewery\n\n\n\nBold Mariner Brewing Company\n\n\n\nPleasure House Brewing\n\n\n\nTradition Brewing Company\n\n\n\n\n\n\n\nSt. George Brewing Company\n\n\n\nCapstan Bar Brewing Company\n\n\n\nNew Realm Brewing Co.\n\n\n\nPost Secondary Brewing\n\n\n\nBig Ugly Brewing\n\n\n\nAlewerks Brewing Company\n\n\n\nReaver Beach Brewing Co.\n\n\n\nMoMac Brewing Co.\n\n\n\n\n\n\nVendors (extra cost)\n\n\n\n\nPOPFlorist\n\n\n\nBella’s Creations\n\n\n\nFace painting by Artfully Yours\n\n\n\nNorfolk Candle\n\n\n\nCustom Spoon Rings from Wuby’s Wings\n\n\n\nFairy Hair from The Fairy Hair Company \n\n\n\nSuperCompStudios\n\n\n\nhighonyoursupply\n\n\n\nThe Sarcastic Hermit\n\n\n\n\nFood & Drinks (extra cost)\n\n\n\n\nAfrican Village Restaurant\n\nPLEASE NOTE: no alcohol will be available for purchase in the restaurant during this event. Food purchases only. \n\n\n\n\n\nMiniMelts\n\nOpen until 8:15pm\n\n\n\n\n\nFood Trucks (in Event Field):\n\nCast Iron Catering\n\n\n\nHola Snacks\n\n\n\nLuvabowls\n\n\n\nHades Wood Fire Oven Pizza\n\n\n\nDC Smoothies\n\n\n\nTwisted Sisters\n\n\n\n\n\n\n\n\n\n\n💲 Ticket Prices 💲\n\n\n\nMember prices\n\n\n\n🍻 Drinking Adult (21+): $48🍻 Non-drinking Adult (18+): $11🍻 Child (2-17): $11🍻 Under 2: Free \n\n\n\nNon-member prices\n\n\n\n🍻 Drinking Adult (21+): $58🍻 Non-drinking Adult (12+): $20🍻 Child (2-11): $17🍻 Under 2: Free \n\n\n\n\nPurchase tickets here!\n\n\n\n\nLimited number of tickets available. Advance ticket sales end when sold out (get yours early!). If tickets remain on the day of event\, gate sales will be credit card only. Tickets are non-refundable. All sales are final. Should a ticket holder be unable to attend the event\, the purchase will be considered a donation. As an outdoor venue\, events are rain or shine unless otherwise indicated. If any changes are made\, an announcement via an email to our members and/or ticket holders and on the Virginia Zoo social media channels will be issued prior the event. \n\n\n\nThe Zoo is a smoke-free facility; no smoking is allowed inside the Zoo. This also includes e-cigarettes and vaping. Inability to follow this rule will result in dismissal from Zoo grounds without a refund.
URL:https://virginiazoo.org/event/roar-pour/
CATEGORIES:Special Events
ATTACH;FMTTYPE=image/jpeg:https://virginiazoo.org/wp-content/uploads/2024/01/DSC_4737-scaled.jpg
END:VEVENT
END:VCALENDAR